BEGIN:VCALENDAR
VERSION:2.0
PRODID:-//Oficina de Transición Energética del Cabildo de Tenerife - ECPv5.10.1//NONSGML v1.0//EN
CALSCALE:GREGORIAN
METHOD:PUBLISH
X-WR-CALNAME:Oficina de Transición Energética del Cabildo de Tenerife
X-ORIGINAL-URL:https://oficinarenovables.es
X-WR-CALDESC:Events for Oficina de Transición Energética del Cabildo de Tenerife
BEGIN:VTIMEZONE
TZID:Europe/Paris
BEGIN:DAYLIGHT
TZOFFSETFROM:+0100
TZOFFSETTO:+0200
TZNAME:CEST
DTSTART:20240331T010000
END:DAYLIGHT
BEGIN:STANDARD
TZOFFSETFROM:+0200
TZOFFSETTO:+0100
TZNAME:CET
DTSTART:20241027T010000
END:STANDARD
END:VTIMEZONE
BEGIN:VEVENT
DTSTART;TZID=Europe/Paris:20240607T090000
DTEND;TZID=Europe/Paris:20240607T190000
DTSTAMP:20260424T205145
CREATED:20240521T140148Z
LAST-MODIFIED:20240730T103435Z
UID:3994-1717750800-1717786800@oficinarenovables.es
SUMMARY:Celebración Día Mundial del Medioambiente Él Médano
DESCRIPTION:Celebración del Día Mundial del Medioambiente y de los Océanos en Él Médano\, destinada en horario de mañana a escolares con actividades infantiles\, y en horario de tarde al público en general. La Oficina de Transformación Comunitaria de Tenerife y la Oficina de Transición Energética de Tenerife participarán con un stand informativo\, así como con diversas actividades destinadas a escolares sobre comunidades energéticas y energías renovables.
URL:https://oficinarenovables.es/evento/celebracion-dia-mundial-del-medioambiente-el-medano/
LOCATION:Plaza de Galicia\, Av. Magallanes\, 12\, El Médano\, Santa Cruz de Tenerife\, 38612\, España
END:VEVENT
END:VCALENDAR