BEGIN:VCALENDAR
VERSION:2.0
PRODID:-//Oficina de Transición Energética del Cabildo de Tenerife - ECPv5.10.1//NONSGML v1.0//EN
CALSCALE:GREGORIAN
METHOD:PUBLISH
X-WR-CALNAME:Oficina de Transición Energética del Cabildo de Tenerife
X-ORIGINAL-URL:https://oficinarenovables.es
X-WR-CALDESC:Events for Oficina de Transición Energética del Cabildo de Tenerife
BEGIN:VTIMEZONE
TZID:Europe/Paris
BEGIN:DAYLIGHT
TZOFFSETFROM:+0100
TZOFFSETTO:+0200
TZNAME:CEST
DTSTART:20240331T010000
END:DAYLIGHT
BEGIN:STANDARD
TZOFFSETFROM:+0200
TZOFFSETTO:+0100
TZNAME:CET
DTSTART:20241027T010000
END:STANDARD
END:VTIMEZONE
BEGIN:VEVENT
DTSTART;TZID=Europe/Paris:20241002T170000
DTEND;TZID=Europe/Paris:20241002T190000
DTSTAMP:20260424T221226
CREATED:20240829T105334Z
LAST-MODIFIED:20240829T111145Z
UID:4822-1727888400-1727895600@oficinarenovables.es
SUMMARY:Taller: Aprovecha el Sol y genera tu propia energía
DESCRIPTION:Taller práctico en el que aprenderás todo lo necesario para aprovechar la energía solar en tu hogar o comunidad. \nExploraremos cómo funcionan las instalaciones fotovoltaicas\, los elementos esenciales que las componen\, y cómo puedes implementar el autoconsumo de manera efectiva. Además\, te guiaremos a través de la normativa vigente y te mostraremos cómo integrarte en comunidades energéticas\, maximizando así los beneficios económicos\, sociales y ambientales. \nInscríbete contactando con la Agencia de Empleo y Desarrollo Local del Ayuntamiento de Buenavista del Norte en el 922 129 030 Ext. 1011 – 1012 – 1013 \nTaller organizado por la Oficina de Transformación Comunitaria de Tenerife (OTC)\, perteneciente a la Oficina de Transición Energética de Tenerife (OTE). \n 
URL:https://oficinarenovables.es/evento/taller-aprovecha-el-sol-y-genera-tu-propia-energia/
LOCATION:Casa de la Cultura Buenavista\, Calle El Puerto\, 63\, Buenavista del Norte\, Santa Cruz de Tenerife\, 38480\, España
CATEGORIES:Charlas,Eventos
ATTACH;FMTTYPE=image/jpeg:https://oficinarenovables.es/wp-content/uploads/2024/08/FOTOVOLTAICAS_CARTEL_CASA-CULTURA-scaled.jpg
ORGANIZER;CN="Oficina%20de%20Transformaci%C3%B3n%20Comunitaria%20%28OTC%29":MAILTO:otc@oficinarenovables.es
END:VEVENT
BEGIN:VEVENT
DTSTART;TZID=Europe/Paris:20241009T170000
DTEND;TZID=Europe/Paris:20241009T190000
DTSTAMP:20260424T221226
CREATED:20240829T105954Z
LAST-MODIFIED:20241009T113250Z
UID:4825-1728493200-1728500400@oficinarenovables.es
SUMMARY:[SUSPENDIDO] Taller: Enciende el ahorro\, entiende tu factura de la luz
DESCRIPTION:¿Quieres comprender mejor tu factura de la luz y aprender a optimizar tus gastos? ¡Apunta este taller práctico gratuito! \nNo olvides traer tu factura de la luz para encontrar las mejores formas de optimizarla \nInscríbete contactando con la Agencia de Empleo y Desarrollo Local del Ayuntamiento de Buenavista del Norte en el 922 129 030 Ext. 1011 – 1012 – 1013 \nTaller organizado por la Oficina de Transformación Comunitaria de Tenerife (OTC)\, perteneciente a la Oficina de Transición Energética de Tenerife (OTE)
URL:https://oficinarenovables.es/evento/taller-enciende-el-ahorro-entiende-tu-factura-de-la-luz-3/
LOCATION:Centro Cultural de El Palmar\, Plaza de El Palmar\, s/n\, Buenavista del Norte\, Santa Cruz de Tenerife\, 38489\, España
CATEGORIES:Charlas,Eventos
ATTACH;FMTTYPE=image/jpeg:https://oficinarenovables.es/wp-content/uploads/2024/08/FACTURA-DE-LA-LUZ_CARTEL_BUENAVISTA-PALMAR-scaled.jpg
ORGANIZER;CN="Oficina%20de%20Transformaci%C3%B3n%20Comunitaria%20%28OTC%29":MAILTO:otc@oficinarenovables.es
END:VEVENT
BEGIN:VEVENT
DTSTART;TZID=Europe/Paris:20241016T170000
DTEND;TZID=Europe/Paris:20241016T190000
DTSTAMP:20260424T221226
CREATED:20240829T110436Z
LAST-MODIFIED:20240829T110436Z
UID:4828-1729098000-1729105200@oficinarenovables.es
SUMMARY:Taller: Comunidades energéticas\, el poder de la energía compartida
DESCRIPTION:Taller práctico sobre Comunidades Energéticas. Aprende cómo esta figura puede hacer de tu comunidad un ejemplo de sostenibilidad y conoce sus múltiples beneficios sociales\, económicos y medioambientales.  \nInscríbete contactando con la Agencia de Empleo y Desarrollo Local del Ayuntamiento de Buenavista del Norte en el 922 129 030 Ext. 1011 – 1012 – 1013 \nTaller organizado por la Oficina de Transformación Comunitaria de Tenerife (OTC)\, perteneciente a la Oficina de Transición Energética de Tenerife (OTE)
URL:https://oficinarenovables.es/evento/taller-comunidades-energeticas-el-poder-de-la-energia-compartida-2/
LOCATION:Centro Cultural de El Palmar\, Plaza de El Palmar\, s/n\, Buenavista del Norte\, Santa Cruz de Tenerife\, 38489\, España
CATEGORIES:Charlas,Eventos
ATTACH;FMTTYPE=image/jpeg:https://oficinarenovables.es/wp-content/uploads/2024/08/COMUNIDADES_CARTEL_PALMAR-scaled.jpg
ORGANIZER;CN="Oficina%20de%20Transformaci%C3%B3n%20Comunitaria%20%28OTC%29":MAILTO:otc@oficinarenovables.es
END:VEVENT
BEGIN:VEVENT
DTSTART;TZID=Europe/Paris:20241023T170000
DTEND;TZID=Europe/Paris:20241023T190000
DTSTAMP:20260424T221226
CREATED:20240829T111025Z
LAST-MODIFIED:20240829T111025Z
UID:4831-1729702800-1729710000@oficinarenovables.es
SUMMARY:Taller: Aprovecha el sol y genera tu propia energía
DESCRIPTION:Taller práctico en el que aprenderás todo lo necesario para aprovechar la energía solar en tu hogar o comunidad. \nExploraremos cómo funcionan las instalaciones fotovoltaicas\, los elementos esenciales que las componen\, y cómo puedes implementar el autoconsumo de manera efectiva. Además\, te guiaremos a través de la normativa vigente y te mostraremos cómo integrarte en comunidades energéticas\, maximizando así los beneficios económicos\, sociales y ambientales. \nInscríbete contactando con la Agencia de Empleo y Desarrollo Local del Ayuntamiento de Buenavista del Norte en el 922 129 030 Ext. 1011 – 1012 – 1013 \nTaller organizado por la Oficina de Transformación Comunitaria de Tenerife (OTC)\, perteneciente a la Oficina de Transición Energética de Tenerife (OTE)
URL:https://oficinarenovables.es/evento/taller-aprovecha-el-sol-y-genera-tu-propia-energia-2/
LOCATION:Centro Cultural de El Palmar\, Plaza de El Palmar\, s/n\, Buenavista del Norte\, Santa Cruz de Tenerife\, 38489\, España
CATEGORIES:Charlas,Eventos
ATTACH;FMTTYPE=image/jpeg:https://oficinarenovables.es/wp-content/uploads/2024/08/FOTOVOLTAICAS_CARTEL_EL-PALMAR-scaled.jpg
ORGANIZER;CN="Oficina%20de%20Transformaci%C3%B3n%20Comunitaria%20%28OTC%29":MAILTO:otc@oficinarenovables.es
END:VEVENT
BEGIN:VEVENT
DTSTART;TZID=Europe/Paris:20241026T100000
DTEND;TZID=Europe/Paris:20241026T160000
DTSTAMP:20260424T221226
CREATED:20241021T091418Z
LAST-MODIFIED:20241021T091836Z
UID:5146-1729936800-1729958400@oficinarenovables.es
SUMMARY:I Feria Insular de Voluntariado Ambiental
DESCRIPTION:Este evento\, organizado por el Área del Medio Natural\, Sostenibilidad\, Seguridad y Emergencias del Cabildo de Tenerife y el Ayuntamiento de San Cristóbal de La Laguna\, con la colaboración de la Oficina de Participación y Voluntariado Ambientales y el Programa Tenerife Isla Solidaria\, ofrecerá un espacio de encuentro para promover el voluntariado y la participación ciudadana en acciones ambientales y de sostenibilidad. \nLa Feria Insular de Voluntariado Ambiental es una iniciativa pionera que reunirá a más de cincuenta entidades públicas y privadas dedicadas a la conservación del medio ambiente\, la biodiversidad y la sostenibilidad\, promoviendo el intercambio de ideas y experiencias a través de un área dedicada al networking. \nLa Oficina de Transformación Comunitaria de Tenerife contará con un stand informativo donde se expondrán temas clave como las energías renovables\, la eficiencia energética y las comunidades energéticas\, ofreciendo información y actividades para fomentar el conocimiento y la implicación de la ciudadanía en la transición hacia un modelo energético más sostenible y colaborativo.
URL:https://oficinarenovables.es/evento/i-feria-insular-de-voluntariado-ambiental/
LOCATION:Plaza de El Cristo\, Pl. de El Cristo\, 5\, San Cristóbal de La Laguna\, Santa Cruz de Tenerife\, 38201\, España
CATEGORIES:Eventos,Ferias
ATTACH;FMTTYPE=image/jpeg:https://oficinarenovables.es/wp-content/uploads/2024/10/PHOTO-2024-10-21-09-40-00.jpg
END:VEVENT
END:VCALENDAR