BEGIN:VCALENDAR
VERSION:2.0
PRODID:-//Oficina de Transición Energética del Cabildo de Tenerife - ECPv5.10.1//NONSGML v1.0//EN
CALSCALE:GREGORIAN
METHOD:PUBLISH
X-WR-CALNAME:Oficina de Transición Energética del Cabildo de Tenerife
X-ORIGINAL-URL:https://oficinarenovables.es
X-WR-CALDESC:Events for Oficina de Transición Energética del Cabildo de Tenerife
BEGIN:VTIMEZONE
TZID:Europe/Paris
BEGIN:DAYLIGHT
TZOFFSETFROM:+0100
TZOFFSETTO:+0200
TZNAME:CEST
DTSTART:20250330T010000
END:DAYLIGHT
BEGIN:STANDARD
TZOFFSETFROM:+0200
TZOFFSETTO:+0100
TZNAME:CET
DTSTART:20251026T010000
END:STANDARD
END:VTIMEZONE
BEGIN:VEVENT
DTSTART;TZID=Europe/Paris:20250319T090000
DTEND;TZID=Europe/Paris:20250321T140000
DTSTAMP:20260419T232549
CREATED:20250317T110631Z
LAST-MODIFIED:20250317T110631Z
UID:6189-1742374800-1742565600@oficinarenovables.es
SUMMARY:Exposición Itinerante: El Tablero
DESCRIPTION:¡La exposición Itinerante de la OTC de Tenerife llega a El Tablero\, de la mano de la Asociación Domitila Hernández! \nLa Oficina de Transformación Comunitaria de Tenerife (OTC) organiza esta exposición itinerante para acercar a la ciudadanía el modelo energético sostenible y justo. A través de un espacio interactivo\, podrás conocer más sobre: \n\nEnergías renovables y eficiencia energética\nComunidades energéticas y su impacto en el territorio\nBono social y pobreza energética\nCómo entender y optimizar tu factura de la luz\n\n🕘 Horario: 09:00 a 14:00 h \n¡No te lo pierdas y descubre cómo puedes ser parte del cambio!
URL:https://oficinarenovables.es/evento/exposicion-itinerante-el-tablero/
LOCATION:Asociación Domitila Hernández por la Igualdad de Oportunidades\, Calle Turilago nº4\, Santa Cruz de Tenerife\, Santa Cruz de Tenerife\, 38107\, España
CATEGORIES:Eventos,Exposición Itinerante
ATTACH;FMTTYPE=image/jpeg:https://oficinarenovables.es/wp-content/uploads/2025/03/EXPOSICION_ITINERANTE_CARTEL.jpg
ORGANIZER;CN="Oficina%20de%20Transformaci%C3%B3n%20Comunitaria%20%28OTC%29":MAILTO:otc@oficinarenovables.es
END:VEVENT
END:VCALENDAR