BEGIN:VCALENDAR
VERSION:2.0
PRODID:-//Oficina de Transición Energética del Cabildo de Tenerife - ECPv5.10.1//NONSGML v1.0//EN
CALSCALE:GREGORIAN
METHOD:PUBLISH
X-WR-CALNAME:Oficina de Transición Energética del Cabildo de Tenerife
X-ORIGINAL-URL:https://oficinarenovables.es
X-WR-CALDESC:Events for Oficina de Transición Energética del Cabildo de Tenerife
BEGIN:VTIMEZONE
TZID:Europe/Paris
BEGIN:DAYLIGHT
TZOFFSETFROM:+0100
TZOFFSETTO:+0200
TZNAME:CEST
DTSTART:20250330T010000
END:DAYLIGHT
BEGIN:STANDARD
TZOFFSETFROM:+0200
TZOFFSETTO:+0100
TZNAME:CET
DTSTART:20251026T010000
END:STANDARD
END:VTIMEZONE
BEGIN:VEVENT
DTSTART;TZID=Europe/Paris:20250401T083000
DTEND;TZID=Europe/Paris:20250402T140000
DTSTAMP:20260426T010136
CREATED:20250317T141510Z
LAST-MODIFIED:20250317T141700Z
UID:6196-1743496200-1743602400@oficinarenovables.es
SUMMARY:Jornadas de Educación Ambiental para la Sostenibilidad en Tenerife
DESCRIPTION:Los próximos días 1 y 2 de abril\, el TEA Tenerife Espacio de las Artes acogerá las Jornadas de Educación Ambiental para la Sostenibilidad en Tenerife\, un espacio de encuentro para el intercambio de experiencias en divulgación y formación ambiental. \nEste evento\, organizado por el Cabildo de Tenerife\, tiene como principales objetivos: \n\nPresentar la Estrategia de Educación Ambiental de Tenerife (EDUSTE) y el proceso participativo que ha permitido su construcción.\nCompartir experiencias inspiradoras a través de ponencias\, comunicaciones orales y paneles sobre educación ambiental\, sostenibilidad y los Objetivos de Desarrollo Sostenible (ODS).\n\nEstán dirigidas a toda persona interesada\, especialmente aquellas que tengan vinculación directa con el desarrollo de programas y acciones relacionadas con la divulgación\, comunicación\, sensibilización\, formación y educación para el logro de los Objetivos de Desarrollo Sostenible\, tanto de las administraciones públicas\, empresas y organizaciones empresariales\, colectivos y asociaciones. El aforo máximo es de 180 personas y la inscripción es gratuita\, siendo el plazo hasta el 21 de marzo. Podrá acceder a más información y al formulario de inscripción en https://educacionparalasostenibilidadentenerife.es \nEstas jornadas tienen como fin esencial compartir experiencias\, por eso se han programado\, además de las ponencias\, una serie de 12 comunicaciones orales y 12 paneles para aquellas entidades\, públicas o privadas\, que quieran exponer sus experiencias en materia de educación\, sensibilización o formación para la sostenibilidad – en sus tres dimensiones: ambiental\, social y económica- en Tenerife. \nDesde la Oficina de Transición Energética de Tenerife (OTE) y la Oficina de Transformación Comunitaria de Tenerife (OTC) asistiremos a las jornadas. Además\, la OTC de Tenerife participará activamente un el panel titulado: «Comunidades Energéticas: qué son\, por qué son clave y cómo la OTC de Tenerife impulsa su crecimiento a través de la comunicación y el acompañamiento»
URL:https://oficinarenovables.es/evento/jornadas-de-educacion-ambiental-para-la-sostenibilidad-en-tenerife/
LOCATION:TEA Tenerife Espacio de las Artes\, Av. de San Sebastián\, 10\, Santa Cruz de Tenerife\, Santa Cruz de Tenerife\, 38003\, Spain
CATEGORIES:Eventos,Jornadas
ATTACH;FMTTYPE=image/png:https://oficinarenovables.es/wp-content/uploads/2025/03/Eduste_RRSS_2025.png
END:VEVENT
BEGIN:VEVENT
DTSTART;TZID=Europe/Paris:20250402T173000
DTEND;TZID=Europe/Paris:20250404T140000
DTSTAMP:20260426T010136
CREATED:20250314T133931Z
LAST-MODIFIED:20250314T133931Z
UID:6180-1743615000-1743775200@oficinarenovables.es
SUMMARY:Encuentro Estatal del Pacto de las Alcaldías 2025
DESCRIPTION:La Oficina de Transición Energética de Tenerife (OTE) participará en el Encuentro Estatal Pacto de las Alcaldías 2025\, organizado por la Oficina del Pacto de las Alcaldías y la Diputación de Tarragona. \nEl evento reunirá a representantes de la Comisión Europea\, coordinadores territoriales y entidades clave para analizar el estado del Pacto de las Alcaldías en España\, las nuevas políticas europeas y estrategias de éxito en su implementación. Además\, contará con mesas redondas sobre sistemas de alerta ante catástrofes naturales y herramientas de gestión de los PACES. \nEl Cabildo de Tenerife\, como coordinador del Pacto en la isla\, estará presente en este encuentro estratégico. \n🔗 Más información y registro
URL:https://oficinarenovables.es/evento/encuentro-estatal-del-pacto-de-las-alcaldias-2025/
LOCATION:Palau de la Diputación de Tarragona\, Passeig de Sant Antoni\, 100\, Tarragona\, Tarragona\, 43003\, Spain
CATEGORIES:Eventos,Jornadas
END:VEVENT
BEGIN:VEVENT
DTSTART;TZID=Europe/Paris:20250405T100000
DTEND;TZID=Europe/Paris:20250405T140000
DTSTAMP:20260426T010136
CREATED:20250403T114020Z
LAST-MODIFIED:20250403T142855Z
UID:6308-1743847200-1743861600@oficinarenovables.es
SUMMARY:Feria de la Salud Buenavista del Norte
DESCRIPTION:La Oficina de Transición Energética (OTE) y la Oficina de Transformación Comunitaria de Tenerife (OTC) estarán presente en la Feria de Salud “Con otra Mirada” en Buenavista del Norte\, con un stand informativo dentro del mercadillo municipal. \n📍 Plaza de Los Remedios\n🕘 10:00 a 14:00 h \nVen a informarte sobre: \n\nLa creación de comunidades energéticas\nEl uso de energías renovables y autoconsumo\nConsejos prácticos para ahorrar en tu factura de la luz\n\nUna oportunidad para descubrir nuevas formas de participación ciudadana y sostenibilidad local. ¡Te esperamos!
URL:https://oficinarenovables.es/evento/feria-de-la-salud-buenavista-del-norte/
LOCATION:Plaza de los Remedios\, Plaza Remedios\, 1Z\, Buenavista del Norte\, Santa Cruz de Tenerife\, 38480\, Spain
CATEGORIES:Eventos,Ferias
ATTACH;FMTTYPE=image/jpeg:https://oficinarenovables.es/wp-content/uploads/2025/04/WhatsApp-Image-2025-04-03-at-12.16.55.jpeg
ORGANIZER;CN="Oficina%20de%20Transformaci%C3%B3n%20Comunitaria%20%28OTC%29":MAILTO:otc@oficinarenovables.es
END:VEVENT
BEGIN:VEVENT
DTSTART;TZID=Europe/Paris:20250410T103000
DTEND;TZID=Europe/Paris:20250413T140000
DTSTAMP:20260426T010136
CREATED:20250312T143033Z
LAST-MODIFIED:20250314T115318Z
UID:6166-1744281000-1744552800@oficinarenovables.es
SUMMARY:Feria Construye - Construcción Moderna 2025
DESCRIPTION:La Oficina de Transición Energética de Tenerife (OTE) y la Oficina de Transformación Comunitaria de Tenerife (OTC) participarán en la Feria Construye – Construcción Moderna. Este evento\, que reúne a profesionales del sector de la construcción\, la rehabilitación y la eficiencia energética\, será un espacio clave para promover soluciones sostenibles en edificación y compartir conocimiento con empresas\, administraciones y ciudadanía interesada. \nLa feria estará abierta al público jueves\, viernes y sábado de 10:30 a 20:30 y domingo de 10:30 a 14:00. \n¿Dónde encontrarnos? \n📍 Stands 535 y 537.\n📅 Charla-taller «Maximizando el Ahorro Energético en Instalaciones de Edificios»\n📌 Cuándo: Jueves 10 de abril\, de 18:00 a 19:00.\n📌 Dónde: Espacio de conferencias de la feria. \n En dicho taller se abordarán estrategias para reducir el consumo energético en edificios\, la importancia de la rehabilitación energética y la integración de energías renovables en la edificación.
URL:https://oficinarenovables.es/evento/feria-construye-construccion-moderna-2025/
LOCATION:Centro Internacional de Ferias y Congresos de Tenerife\, Calle Alcalde José Emilio García Gómez\, Santa Cruz de Tenerife\, Santa Cruz de Tenerife\, 38005\, España
CATEGORIES:Eventos,Ferias
ATTACH;FMTTYPE=image/jpeg:https://oficinarenovables.es/wp-content/uploads/2025/03/1080x1350_post.jpg
ORGANIZER;CN="Instituci%C3%B3n%20Ferial%20de%20Tenerife%20S.A.U.":MAILTO:info@recintoferialdetenerife.com
END:VEVENT
BEGIN:VEVENT
DTSTART;TZID=Europe/Paris:20250422T180000
DTEND;TZID=Europe/Paris:20250422T193000
DTSTAMP:20260426T010136
CREATED:20250404T082450Z
LAST-MODIFIED:20250404T112521Z
UID:6323-1745344800-1745350200@oficinarenovables.es
SUMMARY:Taller práctico - Redes de energía: empoderando a tu comunidad
DESCRIPTION:Taller práctico sobre Comunidades Energéticas. Aprende cómo esta figura puede hacer de tu comunidad un ejemplo de sostenibilidad y conoce sus múltiples beneficios sociales\, económicos y medioambientales. \nTaller organizado por la Oficina de Transformación Comunitaria de Tenerife (OTC)\, perteneciente a la Oficina de Transición Energética de Tenerife (OTE). \nEntrada libre\, no requiere de inscripción previa.
URL:https://oficinarenovables.es/evento/taller-practico-redes-de-energia-empoderando-a-tu-comunidad-4/
LOCATION:Aula Municipal para la Sostenibilidad\, C. Miguel de Cervantes\, s/n\, La Orotava\, Santa Cruz de Tenerife\, 38300\, Spain
CATEGORIES:Charlas,Eventos
ATTACH;FMTTYPE=image/jpeg:https://oficinarenovables.es/wp-content/uploads/2025/04/COMUNIDADES_CARTEL_LA_OROTAVA-1.jpg
ORGANIZER;CN="Oficina%20de%20Transformaci%C3%B3n%20Comunitaria%20%28OTC%29":MAILTO:otc@oficinarenovables.es
END:VEVENT
END:VCALENDAR