BEGIN:VCALENDAR
VERSION:2.0
PRODID:-//Oficina de Transición Energética del Cabildo de Tenerife - ECPv5.10.1//NONSGML v1.0//EN
CALSCALE:GREGORIAN
METHOD:PUBLISH
X-WR-CALNAME:Oficina de Transición Energética del Cabildo de Tenerife
X-ORIGINAL-URL:https://oficinarenovables.es
X-WR-CALDESC:Events for Oficina de Transición Energética del Cabildo de Tenerife
BEGIN:VTIMEZONE
TZID:Europe/Paris
BEGIN:DAYLIGHT
TZOFFSETFROM:+0100
TZOFFSETTO:+0200
TZNAME:CEST
DTSTART:20250330T010000
END:DAYLIGHT
BEGIN:STANDARD
TZOFFSETFROM:+0200
TZOFFSETTO:+0100
TZNAME:CET
DTSTART:20251026T010000
END:STANDARD
END:VTIMEZONE
BEGIN:VEVENT
DTSTART;TZID=Europe/Paris:20250614T090000
DTEND;TZID=Europe/Paris:20250614T150000
DTSTAMP:20260425T115512
CREATED:20250516T093702Z
LAST-MODIFIED:20250516T093702Z
UID:6756-1749891600-1749913200@oficinarenovables.es
SUMMARY:II Encuentro Insular de Comunidades Energéticas - Energía Comunitaria
DESCRIPTION:Te invitamos a participar en el II Encuentro Insular de Comunidades Energéticas – Energía Comunitaria\, que se celebrará el próximo sábado 14 de junio en el Centro de Visitantes Telesforo Bravo (La Orotava). El II Encuentro nace con la finalidad de consolidar y visibilizar el papel de las comunidades energéticas como motor clave en la transición hacia un modelo energético más justo\, sostenible y participativo en la isla de Tenerife. \nEsta jornada está diseñada como un espacio abierto al diálogo\, el aprendizaje compartido y la cooperación entre ciudadanía\, administraciones públicas\, oficinas técnicas\, entidades locales\, empresas y colectivos sociales implicados en la transformación energética del territorio. Durante el encuentro tendrás la oportunidad de descubrir las últimas tendencias del sector\, explorar soluciones financieras innovadoras\, conocer casos prácticos de éxito. \n📌 Inscripción gratuita hasta completar aforo\n🖱️ Conoce más sobre el encuentro\, el programa y las inscripciones a través de la web del evento: https://bit.ly/45jAXQC \n¡Te esperamos!
URL:https://oficinarenovables.es/evento/ii-encuentro-insular-de-comunidades-energeticas-energia-comunitaria/
LOCATION:Centro de Visitantes Telesforo Bravo\, Calle Dr. Sixto Perera Gonzalez\, 25\, La Orotava\, Santa Cruz de Tenerife\, 38300\, Spain
CATEGORIES:Eventos,Jornadas
ATTACH;FMTTYPE=image/jpeg:https://oficinarenovables.es/wp-content/uploads/2025/05/CARTEL_ENCUENTRO_II_A4_v3.jpg
ORGANIZER;CN="Oficina%20de%20Transformaci%C3%B3n%20Comunitaria%20%28OTC%29":MAILTO:otc@oficinarenovables.es
END:VEVENT
END:VCALENDAR